BEGIN:VCALENDAR
VERSION:2.0
PRODID:-//ChamberMaster//Event Calendar 2.0//EN
METHOD:PUBLISH
X-PUBLISHED-TTL:P3D
REFRESH-INTERVAL:P3D
CALSCALE:GREGORIAN
BEGIN:VEVENT
DTSTART:20170527T130000Z
DTEND:20170527T210000Z
X-MICROSOFT-CDO-ALLDAYEVENT:FALSE
SUMMARY:Gridiron Golf Outing
DESCRIPTION:Gridiron Golf Outing\n\nBenefits Mount Vernon Football
X-ALT-DESC;FMTTYPE=text/html:Gridiron Golf Outing<br />\nBenefits Mount Vernon Football
LOCATION:Chapel Hill Golf Course 7516 Johnstown Road\, Mount Vernon
UID:e.2893.1342
SEQUENCE:3
DTSTAMP:20260423T075135Z
URL:http://knoxchamber.smartcms.site/events/details/gridiron-golf-outing-1342
END:VEVENT

END:VCALENDAR
