BEGIN:VCALENDAR
VERSION:2.0
PRODID:-//ChamberMaster//Event Calendar 2.0//EN
METHOD:PUBLISH
X-PUBLISHED-TTL:P3D
REFRESH-INTERVAL:P3D
CALSCALE:GREGORIAN
BEGIN:VEVENT
DTSTART:20161027T130000Z
DTEND:20161027T143000Z
X-MICROSOFT-CDO-ALLDAYEVENT:FALSE
SUMMARY:Grand Opening of Maurices
DESCRIPTION:Come celebrate the Grand Opening of Maurices!\n\nClick here to RSVP.
X-ALT-DESC;FMTTYPE=text/html:<p>Come celebrate the Grand Opening of Maurices!</p>\n\n<p><a href="http://events.constantcontact.com/register/event?llr=ksoytxjab&amp\;oeidk=a07ed9gjobcad135c75">Click here</a> to RSVP.</p>\n
LOCATION:
UID:e.2893.919
SEQUENCE:3
DTSTAMP:20260423T193421Z
URL:http://knoxchamber.smartcms.site/events/details/grand-opening-of-maurices-10-27-2016-919
END:VEVENT

END:VCALENDAR
