BEGIN:VCALENDAR
VERSION:2.0
PRODID:-//ChamberMaster//Event Calendar 2.0//EN
METHOD:PUBLISH
X-PUBLISHED-TTL:P3D
REFRESH-INTERVAL:P3D
CALSCALE:GREGORIAN
BEGIN:VEVENT
DTSTART:20170806T200000Z
DTEND:20170807T000000Z
X-MICROSOFT-CDO-ALLDAYEVENT:FALSE
SUMMARY:Gospel Music Day
DESCRIPTION:Chestnut Ridge 4:00pm\n\nKevin Prater Band 6:00pm
X-ALT-DESC;FMTTYPE=text/html:Chestnut Ridge 4:00pm<br />\nKevin Prater Band 6:00pm
LOCATION:Ariel Foundation Park beginning at 4:00pm.
UID:e.2893.1433
SEQUENCE:3
DTSTAMP:20260423T005129Z
URL:http://knoxchamber.smartcms.site/events/details/gospel-music-day-1433
END:VEVENT

END:VCALENDAR
