BEGIN:VCALENDAR
VERSION:2.0
PRODID:-//ChamberMaster//Event Calendar 2.0//EN
METHOD:PUBLISH
X-PUBLISHED-TTL:P3D
REFRESH-INTERVAL:P3D
CALSCALE:GREGORIAN
BEGIN:VEVENT
DTSTART:20180330T220000Z
DTEND:20180331T010000Z
X-MICROSOFT-CDO-ALLDAYEVENT:FALSE
SUMMARY:Game On!
DESCRIPTION:Gather a group of friends or plan a date night to play a library of more than 50 board and card games! Experts will be on hand to help teach game mastery. Affordable snacks and a cash bar are available. Ages 16 and up - some games include adult themes and language. Admission is $5.
X-ALT-DESC;FMTTYPE=text/html:<span style="color: rgb(144\, 148\, 156)\; font-family: Helvetica\, Arial\, sans-serif\; font-size: 12px\; white-space: pre-wrap\;">Gather a group of friends or plan a date night to play a library of more than 50 board and card games! Experts will be on hand to help teach game mastery. Affordable snacks and a cash bar are available. Ages 16 and up - some games include adult themes and language. Admission is $5.</span>
LOCATION:Knox County Memorial Building 112 East High Street Mount Vernon\, Ohio 43050
UID:e.2893.3622
SEQUENCE:3
DTSTAMP:20260422T123253Z
URL:http://knoxchamber.smartcms.site/events/details/game-on-3622
END:VEVENT

END:VCALENDAR
