BEGIN:VCALENDAR
VERSION:2.0
PRODID:-//ChamberMaster//Event Calendar 2.0//EN
METHOD:PUBLISH
X-PUBLISHED-TTL:P3D
REFRESH-INTERVAL:P3D
CALSCALE:GREGORIAN
BEGIN:VEVENT
DTSTART:20180126T230000Z
DTEND:20180127T030000Z
X-MICROSOFT-CDO-ALLDAYEVENT:FALSE
SUMMARY:Game On!
DESCRIPTION:Gather a group of friend's or plan a date night to play a library of more than 50 board and card games!\n\nExperts will be on hand to help teach game mastery.\n\n\n\nAffordable snacks and a cash bar are available.\n\n\n\nAdmission: $5.00\n\n\n\nUPCOMING DATES:\n\nFebruary 23rd and March 30th
X-ALT-DESC;FMTTYPE=text/html:Gather a group of friend&#39\;s or plan a date night to play a library of more than 50 board and card games!<br />\nExperts will be on hand to help teach game mastery.<br />\n<br />\nAffordable snacks and a cash bar are available.<br />\n<br />\nAdmission: $5.00<br />\n<br />\nUPCOMING DATES:<br />\nFebruary&nbsp\;23rd and March 30th
LOCATION:Knox County Memorial Building Veteran's Hall 112 E. High Street\, Mount Vernon
UID:e.2893.2544
SEQUENCE:3
DTSTAMP:20260422T155333Z
URL:http://knoxchamber.smartcms.site/events/details/game-on-2544
END:VEVENT

END:VCALENDAR
