BEGIN:VCALENDAR
VERSION:2.0
PRODID:-//ChamberMaster//Event Calendar 2.0//EN
METHOD:PUBLISH
X-PUBLISHED-TTL:P3D
REFRESH-INTERVAL:P3D
CALSCALE:GREGORIAN
BEGIN:VEVENT
DTSTART:20200209T233000Z
DTEND:20200210T003000Z
X-MICROSOFT-CDO-ALLDAYEVENT:FALSE
SUMMARY:Full Moon Night Hike
DESCRIPTION:Meet in the Resource Center. Ever wonder where the terms "lunatic" and "honeymoon" came from? Learn the facts and folklore about our closest celestial neighbor: the Moon! Come enjoy part of our full moon night hike series. We will explore the BFEC during a 1-hour hike under the "Snow Moon."
X-ALT-DESC;FMTTYPE=text/html:Meet in the Resource Center. Ever wonder where the terms &ldquo\;lunatic&rdquo\; and &ldquo\;honeymoon&rdquo\; came from? Learn the facts and folklore about our closest celestial neighbor: the Moon! Come enjoy part of our full moon night hike series. We will explore the BFEC during a 1-hour hike under the &ldquo\;Snow Moon.&rdquo\;
LOCATION:BFEC
UID:e.2893.4694
SEQUENCE:3
DTSTAMP:20260420T231115Z
URL:http://knoxchamber.smartcms.site/events/details/full-moon-night-hike-4694
END:VEVENT

END:VCALENDAR
