BEGIN:VCALENDAR
VERSION:2.0
PRODID:-//ChamberMaster//Event Calendar 2.0//EN
METHOD:PUBLISH
X-PUBLISHED-TTL:P3D
REFRESH-INTERVAL:P3D
CALSCALE:GREGORIAN
BEGIN:VEVENT
DTSTART:20200409T000000Z
DTEND:20200409T010000Z
X-MICROSOFT-CDO-ALLDAYEVENT:FALSE
SUMMARY:Full Moon Night Hike
DESCRIPTION:Meet in the Resource Center. Come enjoy part of our full moon night hike series. We will explore the BFEC during a 1-hour hike under the "Pink Moon."
X-ALT-DESC;FMTTYPE=text/html:Meet in the Resource Center. Come enjoy part of our full moon night hike series. We will explore the BFEC during a 1-hour hike under the &ldquo\;Pink Moon.&rdquo\;
LOCATION:BFEC
UID:e.2893.4699
SEQUENCE:3
DTSTAMP:20260420T182702Z
URL:http://knoxchamber.smartcms.site/events/details/full-moon-night-hike-04-08-2020-4699
END:VEVENT

END:VCALENDAR
