BEGIN:VCALENDAR
VERSION:2.0
PRODID:-//ChamberMaster//Event Calendar 2.0//EN
METHOD:PUBLISH
X-PUBLISHED-TTL:P3D
REFRESH-INTERVAL:P3D
CALSCALE:GREGORIAN
BEGIN:VEVENT
DTSTART:20171128T170000Z
DTEND:20171128T180000Z
X-MICROSOFT-CDO-ALLDAYEVENT:FALSE
SUMMARY:Fringe Salon & Spa Ribbon Cutting
DESCRIPTION:Join us for a ribbon cutting ceremony in celebration of the Grand Opening of Fringe Salon & Spa! A ribbon cutting ceremony will take place at 12:00pm.
X-ALT-DESC;FMTTYPE=text/html:<span style="font-size:16px\;"><span style="color: rgb(29\, 33\, 41)\; font-family: Helvetica\, Arial\, sans-serif\; white-space: pre-wrap\;">Join us for a ribbon cutting ceremony in celebration of the Grand Opening of Fringe Salon &amp\; Spa! A ribbon cutting ceremony will take place at 12:00pm. </span></span>
LOCATION:5 West Ohio Avenue\, Mount Vernon
UID:e.2893.2525
SEQUENCE:3
DTSTAMP:20260422T193412Z
URL:http://knoxchamber.smartcms.site/events/details/fringe-salon-spa-ribbon-cutting-2525
END:VEVENT

END:VCALENDAR
