BEGIN:VCALENDAR
VERSION:2.0
PRODID:-//ChamberMaster//Event Calendar 2.0//EN
METHOD:PUBLISH
X-PUBLISHED-TTL:P3D
REFRESH-INTERVAL:P3D
CALSCALE:GREGORIAN
BEGIN:VEVENT
DTSTART:20190713T233000Z
DTEND:20190714T020000Z
X-MICROSOFT-CDO-ALLDAYEVENT:FALSE
SUMMARY:Free Summer Concert Series
DESCRIPTION:Delyn Christian opens for McGuffey Lane starting at 6pm.  Bring your own chairs or use the chairs provided.  Enjoy music and grab a bite to eat at anyone of the several food vendors\, including member\, Whit's Frozen Custard.  Outside food and beverages\, smoking\, and pets are prohibited.
X-ALT-DESC;FMTTYPE=text/html:Delyn Christian opens for McGuffey Lane starting at 6pm.&nbsp\; Bring your own chairs or use the chairs provided.&nbsp\; Enjoy music and grab a bite to eat at anyone of the several food vendors\, including member\, Whit&#39\;s Frozen Custard.&nbsp\; Outside food and beverages\, smoking\, and pets are prohibited.&nbsp\;
LOCATION:10 Pittsburgh Avenue\, Mount Vernon
UID:e.2893.4335
SEQUENCE:3
DTSTAMP:20260421T085342Z
URL:http://knoxchamber.smartcms.site/events/details/free-summer-concert-series-4335
END:VEVENT

END:VCALENDAR
