BEGIN:VCALENDAR
VERSION:2.0
PRODID:-//ChamberMaster//Event Calendar 2.0//EN
METHOD:PUBLISH
X-PUBLISHED-TTL:P3D
REFRESH-INTERVAL:P3D
CALSCALE:GREGORIAN
BEGIN:VEVENT
DTSTART:20190622T233000Z
DTEND:20190623T020000Z
X-MICROSOFT-CDO-ALLDAYEVENT:FALSE
SUMMARY:Free Summer Concert Series
DESCRIPTION:Ariel Foundation Park will host The Ohio State University Alumni Band for their first concert of the summer! Enjoy food and beverages from vendors including member\, Whit's Frozen Custard.  No outside food or beverages will be allowed. Pets and smoking are also prohibited.
X-ALT-DESC;FMTTYPE=text/html:Ariel Foundation Park will host The Ohio State University Alumni Band for their first concert of the summer! Enjoy food and beverages from vendors including member\, Whit&#39\;s Frozen Custard.&nbsp\; No outside food or beverages will be allowed. Pets and smoking are also prohibited.&nbsp\;
LOCATION:10 Pittsburgh Avenue\, Mount Vernon
UID:e.2893.4333
SEQUENCE:3
DTSTAMP:20260421T103821Z
URL:http://knoxchamber.smartcms.site/events/details/free-summer-concert-series-4333
END:VEVENT

END:VCALENDAR
