BEGIN:VCALENDAR
VERSION:2.0
PRODID:-//ChamberMaster//Event Calendar 2.0//EN
METHOD:PUBLISH
X-PUBLISHED-TTL:P3D
REFRESH-INTERVAL:P3D
CALSCALE:GREGORIAN
BEGIN:VEVENT
DTSTART:20200209T173000Z
DTEND:20200209T203000Z
X-MICROSOFT-CDO-ALLDAYEVENT:FALSE
SUMMARY:Free Sports Clinics for Girls
DESCRIPTION:Free sports clinics for girls in grades K-8th. All girls in surrounding counties to Knox are welcome. Varsity athletes from our Kenyon athletic teams will lead clinics in each respective sport. Sports include: basketball\, field hockey\, lacrosse\, softball\, soccer\, volleyball\, tennis\, track & field.
X-ALT-DESC;FMTTYPE=text/html:Free sports clinics for girls in grades K-8th. All girls in surrounding counties to Knox are welcome. Varsity athletes from our Kenyon athletic teams will lead clinics in each respective sport. Sports include: basketball\, field hockey\, lacrosse\, softball\, soccer\, volleyball\, tennis\, track &amp\; field.
LOCATION:Kenyon Athletic Center 221 Duff St. Gambier\, OH 43022
UID:e.2893.4718
SEQUENCE:3
DTSTAMP:20260420T212857Z
URL:http://knoxchamber.smartcms.site/events/details/free-sports-clinics-for-girls-4718
END:VEVENT

END:VCALENDAR
