BEGIN:VCALENDAR
VERSION:2.0
PRODID:-//ChamberMaster//Event Calendar 2.0//EN
METHOD:PUBLISH
X-PUBLISHED-TTL:P3D
REFRESH-INTERVAL:P3D
CALSCALE:GREGORIAN
BEGIN:VEVENT
DTSTART;VALUE=DATE:20210312
DTEND;VALUE=DATE:20210313
TRANSP:TRANSPARENT
X-MICROSOFT-CDO-ALLDAYEVENT:TRUE
SUMMARY:Free Environmental Sessions from OEPA
DESCRIPTION:Click here for the full details on the day's webinars.
X-ALT-DESC;FMTTYPE=text/html:<strong><a href="https://chambermaster.blob.core.windows.net/userfiles/UserFiles/chambers/2893/File/Webinar-SafetyCongress-VirtualAssistanceandResourcesOEPA-BWC.pdf">Click here for the full details on the day&#39\;s webinars.</a></strong>
LOCATION:Virtual Webinar
UID:e.2893.4830
SEQUENCE:3
DTSTAMP:20260420T004917Z
URL:http://knoxchamber.smartcms.site/events/details/free-environmental-sessions-from-oepa-4830
END:VEVENT

END:VCALENDAR
