BEGIN:VCALENDAR
VERSION:2.0
PRODID:-//ChamberMaster//Event Calendar 2.0//EN
METHOD:PUBLISH
X-PUBLISHED-TTL:P3D
REFRESH-INTERVAL:P3D
CALSCALE:GREGORIAN
BEGIN:VEVENT
DTSTART:20180822T160000Z
DTEND:20180822T170000Z
X-MICROSOFT-CDO-ALLDAYEVENT:FALSE
SUMMARY:Free Advance Planning Seminar
DESCRIPTION:Lunch & Learn\n\nCome enjoy lunch with us and learn about the end-of-life planning you need to do now in order to protect your family in the futre\n\n\n\nSeating is limited to the First 25 people.
X-ALT-DESC;FMTTYPE=text/html:<span style="color:#B22222\;"><strong>Lunch &amp\; Learn</strong></span><br />\nCome enjoy lunch with us and learn about the end-of-life planning you need to do now in order to protect your family in the futre<br />\n<br />\nSeating is limited to the First 25 people.<br />\n&nbsp\;
LOCATION:Lasater Funeral Home 11337 Upper Gilchrist Road\, Mount Vernon RSVP: 740-392-0005
UID:e.2893.3770
SEQUENCE:3
DTSTAMP:20260422T043736Z
URL:http://knoxchamber.smartcms.site/events/details/free-advance-planning-seminar-3770
END:VEVENT

END:VCALENDAR
