BEGIN:VCALENDAR
VERSION:2.0
PRODID:-//ChamberMaster//Event Calendar 2.0//EN
METHOD:PUBLISH
X-PUBLISHED-TTL:P3D
REFRESH-INTERVAL:P3D
CALSCALE:GREGORIAN
BEGIN:VEVENT
DTSTART:20170708T210000Z
DTEND:20170709T010000Z
X-MICROSOFT-CDO-ALLDAYEVENT:FALSE
SUMMARY:Fredericktown Christmas in July
DESCRIPTION:Fredericktown community event is hosting Christmas in July in downtown Fredericktown on Saturday\, July 8th starting at 5:00pm. There will be free activities such as a petting zoo\, dunk booth\, live music\, face painting\, games and more! An outdoor movie will be showing at 9:00pm! \n\n\n\nBring canned foods to the Interchurch building to earn raffle tickets. 5 items equal 1 ticket.
X-ALT-DESC;FMTTYPE=text/html:Fredericktown&nbsp\;community event is hosting Christmas in July in downtown Fredericktown on Saturday\, July 8th starting at 5:00pm. There will be free activities such as a petting zoo\, dunk booth\, live music\, face painting\, games and more! An outdoor movie will be showing at 9:00pm!&nbsp\;<br />\n<br />\nBring canned foods to the Interchurch building to earn raffle tickets. 5 items equal 1 ticket. &nbsp\;
LOCATION:
UID:e.2893.1389
SEQUENCE:3
DTSTAMP:20260423T044416Z
URL:http://knoxchamber.smartcms.site/events/details/fredericktown-christmas-in-july-1389
END:VEVENT

END:VCALENDAR
