BEGIN:VCALENDAR
VERSION:2.0
PRODID:-//ChamberMaster//Event Calendar 2.0//EN
METHOD:PUBLISH
X-PUBLISHED-TTL:P3D
REFRESH-INTERVAL:P3D
CALSCALE:GREGORIAN
BEGIN:VEVENT
DTSTART:20190824T150000Z
DTEND:20190824T190000Z
X-MICROSOFT-CDO-ALLDAYEVENT:FALSE
SUMMARY:Fredericktown Chevrolet Inaugural Chili Cook Off
DESCRIPTION:Fredericktown Chevrolet will host their Inaugural Chili Cook Off on August 24\, from 11am-3pm. Tasting and voting is open to the public.  Votes will be place by donation. Listen to music from the Fredericktown Marching Band and an assortment of raffles\, and a test drive event will also occur. All proceeds got to the Fredericktown Music Boosters to support the Fredericktown Marching Band.
X-ALT-DESC;FMTTYPE=text/html:<span style="font-family: Georgia\, &quot\;Times New Roman&quot\;\, Times\, serif\; font-size: 10.6667px\; background-color: rgb(255\, 255\, 255)\;">Fredericktown Chevrolet will host their Inaugural Chili Cook Off on August 24\, from 11am-3pm. Tasting and voting is open to the public.&nbsp\; Votes will be place by donation. Listen to&nbsp\;</span><span style="font-family: Georgia\, &quot\;Times New Roman&quot\;\, Times\, serif\; font-size: 8pt\; background-color: rgb(255\, 255\, 255)\;">music from the Fredericktown Marching Band and an assortment of raffles\, and a test drive event will also occur.&nbsp\;</span><span style="font-family: Georgia\, &quot\;Times New Roman&quot\;\, Times\, serif\; font-size: 10.6667px\;">All proceeds got to the Fredericktown Music Boosters to support the Fredericktown Marching Band.</span>\n<div style="font-family: Georgia\, &quot\;Times New Roman&quot\;\, Times\, serif\; font-size: 10.6667px\; background-color: rgb(255\, 255\, 255)\;">&nbsp\;</div>\n
LOCATION:Fredericktown Chevrolet\, 109 Bollinger Drive\, Fredericktown
UID:e.2893.4416
SEQUENCE:3
DTSTAMP:20260421T085926Z
URL:http://knoxchamber.smartcms.site/events/details/fredericktown-chevrolet-inaugural-chili-cook-off-4416
END:VEVENT

END:VCALENDAR
