BEGIN:VCALENDAR
VERSION:2.0
PRODID:-//ChamberMaster//Event Calendar 2.0//EN
METHOD:PUBLISH
X-PUBLISHED-TTL:P3D
REFRESH-INTERVAL:P3D
CALSCALE:GREGORIAN
BEGIN:VEVENT
DTSTART:20171014T233000Z
DTEND:20171015T030000Z
X-MICROSOFT-CDO-ALLDAYEVENT:FALSE
SUMMARY:Frank Ziwich
DESCRIPTION:
X-ALT-DESC;FMTTYPE=text/html:
LOCATION:Ariel-Foundation Park
UID:e.2893.1445
SEQUENCE:3
DTSTAMP:20260422T225549Z
URL:http://knoxchamber.smartcms.site/events/details/frank-ziwich-1445
END:VEVENT

END:VCALENDAR
