BEGIN:VCALENDAR
VERSION:2.0
PRODID:-//ChamberMaster//Event Calendar 2.0//EN
METHOD:PUBLISH
X-PUBLISHED-TTL:P3D
REFRESH-INTERVAL:P3D
CALSCALE:GREGORIAN
BEGIN:VEVENT
DTSTART:20170418T213000Z
DTEND:20170418T223000Z
X-MICROSOFT-CDO-ALLDAYEVENT:FALSE
SUMMARY:Foundations of Blogging
DESCRIPTION:Tuesday\, April 18 Foundations of Blogging\n\n5:30 p.m.\, Women's Business Center\, 1655 Old Leonard Ave.\, Columbus\, OH 43219
X-ALT-DESC;FMTTYPE=text/html:<p class="gdp" style="margin-top:9.75pt\;margin-right:0in\;margin-bottom:9.75pt\;\nmargin-left:0in\;line-height:13.5pt"><b><span style="font-size:10.5pt\;\nfont-family:&quot\;Arial&quot\;\,sans-serif\;color:#0A1A1F">Tuesday\, April 18 </span></b><span style="font-size:10.5pt\;font-family:&quot\;Arial&quot\;\,sans-serif\;color:#0A1A1F"><a href="http://links.govdelivery.com:80/track?type=click&amp\;enid=ZWFzPTEmbWFpbGluZ2lkPTIwMTcwNDA0LjcxODkzMTExJm1lc3NhZ2VpZD1NREItUFJELUJVTC0yMDE3MDQwNC43MTg5MzExMSZkYXRhYmFzZWlkPTEwMDEmc2VyaWFsPTE3MTMxMzY1JmVtYWlsaWQ9cHJvZ3JhbXNAa25veGNoYW1iZXIuY29tJnVzZXJpZD1wcm9ncmFtc0Brbm94Y2hhbWJlci5jb20mZmw9JmV4dHJhPU11bHRpdmFyaWF0ZUlkPSYmJg==&amp\;&amp\;&amp\;124&amp\;&amp\;&amp\;https://www.ecdi.org/events/columbus/728/?utm_medium=email&amp\;utm_source=govdelivery"><b>Foundations of Blogging</b></a><o:p></o:p></span></p>\n\n<p class="gdp" style="margin-top:9.75pt\;margin-right:0in\;margin-bottom:9.75pt\;\nmargin-left:0in\;line-height:13.5pt"><span style="font-size:10.5pt\;font-family:\n&quot\;Arial&quot\;\,sans-serif\;color:#0A1A1F">5:30 p.m.\, Women&rsquo\;s Business Center\, 1655 Old Leonard Ave.\, Columbus\, OH 43219<o:p></o:p></span></p>\n
LOCATION:
UID:e.2893.1360
SEQUENCE:3
DTSTAMP:20260423T112231Z
URL:http://knoxchamber.smartcms.site/events/details/foundations-of-blogging-1360
END:VEVENT

END:VCALENDAR
