BEGIN:VCALENDAR
VERSION:2.0
PRODID:-//ChamberMaster//Event Calendar 2.0//EN
METHOD:PUBLISH
X-PUBLISHED-TTL:P3D
REFRESH-INTERVAL:P3D
CALSCALE:GREGORIAN
BEGIN:VEVENT
DTSTART:20191109T190000Z
DTEND:20191109T210000Z
X-MICROSOFT-CDO-ALLDAYEVENT:FALSE
SUMMARY:Forest Foray: Guided Hike
DESCRIPTION:Meet at Miller Observatory. Join Kenyon's Director of Green Initiatives (and BFEC's previous Facilities Director)\, Dave Heithaus\, to enjoy this moderately challenging hike. We hike past Walker's Pond\, to parts of the New Gambier Loop\, a section of Bishop's Backbone\, and we'll finish along the Corridor Trail. Dave will tell us about the blood\, sweat\, and tears that went into forging these trails. Approximately 2 miles.
X-ALT-DESC;FMTTYPE=text/html:Meet at Miller Observatory. Join Kenyon&rsquo\;s Director of Green Initiatives (and BFEC&rsquo\;s previous Facilities Director)\, Dave Heithaus\, to enjoy this moderately challenging hike. We hike past Walker&rsquo\;s Pond\, to parts of the New Gambier Loop\, a section of Bishop&rsquo\;s Backbone\, and we&rsquo\;ll finish along the Corridor Trail. Dave will tell us about the blood\, sweat\, and tears that went into forging these trails. Approximately 2 miles.
LOCATION:
UID:e.2893.4480
SEQUENCE:3
DTSTAMP:20260421T023146Z
URL:http://knoxchamber.smartcms.site/events/details/forest-foray-guided-hike-4480
END:VEVENT

END:VCALENDAR
