BEGIN:VCALENDAR
VERSION:2.0
PRODID:-//ChamberMaster//Event Calendar 2.0//EN
METHOD:PUBLISH
X-PUBLISHED-TTL:P3D
REFRESH-INTERVAL:P3D
CALSCALE:GREGORIAN
BEGIN:VEVENT
DTSTART:20191206T230000Z
DTEND:20191207T020000Z
X-MICROSOFT-CDO-ALLDAYEVENT:FALSE
SUMMARY:Food for the Hungry Snowflake Gala
DESCRIPTION:The annual Food for the Hungry Snowflake Gala and Fund a Cause Auction raise money as an important part of the Food for the Hungry Drive.
X-ALT-DESC;FMTTYPE=text/html:The annual Food for the Hungry Snowflake Gala and Fund a Cause Auction raise money as an important part of the Food for the Hungry Drive.
LOCATION:Kenyon Athletic Center
UID:e.2893.4337
SEQUENCE:3
DTSTAMP:20260421T010121Z
URL:http://knoxchamber.smartcms.site/events/details/food-for-the-hungry-snowflake-gala-4337
END:VEVENT

END:VCALENDAR
