BEGIN:VCALENDAR
VERSION:2.0
PRODID:-//ChamberMaster//Event Calendar 2.0//EN
METHOD:PUBLISH
X-PUBLISHED-TTL:P3D
REFRESH-INTERVAL:P3D
CALSCALE:GREGORIAN
BEGIN:VEVENT
DTSTART:20170208T003000Z
DTEND:20170208T023000Z
X-MICROSOFT-CDO-ALLDAYEVENT:FALSE
SUMMARY:Fly Fishing Workshop
DESCRIPTION:Learn the basics of fly fishing and where to use your new skills in central Ohio. Graham Stokes will lead this exciting program. The dates listed below are a series of connected classes\; the program begins on February and ends on February 28\, so be sure to mark your calendar for all of these dates! February 7\, February 14\, February 21\, and February 28 at 7:30 pm each evening
X-ALT-DESC;FMTTYPE=text/html:<span style="color: rgb(51\, 51\, 51)\; font-family: sans-serif\, Arial\, Verdana\, &quot\;Trebuchet MS&quot\;\; font-size: 13px\; background-color: rgb(255\, 255\, 255)\;">Learn the basics of fly fishing and where to use your new skills in central Ohio. Graham Stokes will lead this exciting program. The dates listed below are a series of connected classes\; the program begins on February and ends on February 28\, so be sure to mark your calendar for all of these dates! February 7\,&nbsp\;February 14\,&nbsp\;February 21\,&nbsp\;and February 28 at 7:30 pm each evening</span>
LOCATION:Brown Family Environmental Center
UID:e.2893.956
SEQUENCE:3
DTSTAMP:20260423T124201Z
URL:http://knoxchamber.smartcms.site/events/details/fly-fishing-workshop-02-07-2017-956
END:VEVENT

END:VCALENDAR
