BEGIN:VCALENDAR
VERSION:2.0
PRODID:-//ChamberMaster//Event Calendar 2.0//EN
METHOD:PUBLISH
X-PUBLISHED-TTL:P3D
REFRESH-INTERVAL:P3D
CALSCALE:GREGORIAN
BEGIN:VEVENT
DTSTART:20170801T223000Z
DTEND:20170801T233000Z
X-MICROSOFT-CDO-ALLDAYEVENT:FALSE
SUMMARY:Fly Fishing Class
DESCRIPTION:Fly Fishing Class -  Tuesdays\, July 18 - August 1\, 6:30 pm\n\nMeet at BFEC Resource Center.  Learn the basics of fly fishing\, including knots\, casting\, and leaders.  Learn to read the water\, and best places to fly fish right here in Knox County.  Graham Stokes\, professional outfitter\, will lead this exciting program.   July 18\, July 25\, August 1\, at 6:30 pm each evening.  Call now to register 740-427-5050.  Registration required.  Payment due (cash or check) by July 14.  Members - $45\; Non-members - $60
X-ALT-DESC;FMTTYPE=text/html:<strong><span style="background-image:initial\;background-position:initial\;background-size:initial\;background-repeat:initial\;background-attachment:initial\;background-origin:initial\;background-clip:initial\;"><span style="font-family:georgia\,serif\;"><span style="font-size:12pt\;">Fly Fishing Class -&nbsp\; Tuesdays\, July 18 - August 1\, 6:30 pm</span></span></span></strong><br />\n<u><span style="background-image:initial\;background-position:initial\;background-size:initial\;background-repeat:initial\;background-attachment:initial\;background-origin:initial\;background-clip:initial\;"><span style="font-family:georgia\,serif\;"><span style="font-size:10pt\;">Meet at BFEC Resource Center</span></span></span></u><span style="background-image:initial\;background-position:initial\;background-size:initial\;background-repeat:initial\;background-attachment:initial\;background-origin:initial\;background-clip:initial\;"><span style="font-family:georgia\,serif\;"><span style="font-size:10pt\;">.&nbsp\; Learn the basics of fly fishing\, including knots\, casting\, and leaders.&nbsp\; Learn to read the water\, and best places to fly fish right here in Knox County.&nbsp\; Graham Stokes\, professional outfitter\, will lead this exciting program.&nbsp\;&nbsp\; <strong>July 18\, July 25\, August 1\, at 6:30 pm each evening.&nbsp\; Call now to register 740-427-5050.&nbsp\; Registration required.&nbsp\; </strong>Payment due (cash or check) by July 14.&nbsp\; <strong>Members - $45\; Non-members - $60</strong></span></span></span>
LOCATION:
UID:e.2893.1405
SEQUENCE:3
DTSTAMP:20260423T010018Z
URL:http://knoxchamber.smartcms.site/events/details/fly-fishing-class-08-01-2017-1405
END:VEVENT

END:VCALENDAR
