BEGIN:VCALENDAR
VERSION:2.0
PRODID:-//ChamberMaster//Event Calendar 2.0//EN
METHOD:PUBLISH
X-PUBLISHED-TTL:P3D
REFRESH-INTERVAL:P3D
CALSCALE:GREGORIAN
BEGIN:VEVENT
DTSTART:20180907T203000Z
DTEND:20180908T010000Z
X-MICROSOFT-CDO-ALLDAYEVENT:FALSE
SUMMARY:First Friday
DESCRIPTION:First Fridays are family- friendly events celebrate on the first Friday of every month. Starting in June through September. Main Street of Mount Vernon invites you to explore the historic downtown of Mount Vernon with live entertainment\, classic car cruise-in during June\, July\, and August and a variety of local food\, shopping\, kids entertainment\, a beer garden and more.\n\nDetails for the First Friday season are listed at http://mainstreetmountvernon.com
X-ALT-DESC;FMTTYPE=text/html:First Fridays are family- friendly events celebrate&nbsp\;on the first Friday of every month. Starting in June through September. Main Street of Mount Vernon invites you to explore the historic downtown of Mount Vernon with live entertainment\, classic car cruise-in during June\, July\, and August and a variety of local food\, shopping\, kids entertainment\, a beer garden and more.<br />\nDetails for the First Friday season are listed at&nbsp\;<a href="http://mainstreetmountvernon.com">http</a><a href="http://mainstreetmountvernon.com">://mainstreetmountvernon.com</a>
LOCATION:Traffic will close one block north of Public Square\, around the Square and on South Main street down to the Wright Center
UID:e.2893.3655
SEQUENCE:3
DTSTAMP:20260422T023749Z
URL:http://knoxchamber.smartcms.site/events/details/first-friday-09-07-2018-3655
END:VEVENT

END:VCALENDAR
