BEGIN:VCALENDAR
VERSION:2.0
PRODID:-//ChamberMaster//Event Calendar 2.0//EN
METHOD:PUBLISH
X-PUBLISHED-TTL:P3D
REFRESH-INTERVAL:P3D
CALSCALE:GREGORIAN
BEGIN:VEVENT
DTSTART:20180720T160000Z
DTEND:20180720T170000Z
X-MICROSOFT-CDO-ALLDAYEVENT:FALSE
SUMMARY:FDIC Money Smart Series - Tax Planning
DESCRIPTION:Join us on Friday\, July 20th for the FDIC Money Smart Series with Woodforest National Bank at the Knox County Chamber of Commerce\n\n \nTax Planning and Reporting\n\nAfter completing this module\, the participants will be able to:\n\n\n	Predict their businesses? federal\, state and local tax liabilities.\n	Prepare for tax obligations and establish proper accounts.\n	Obtain the proper licenses for their business and meet reporting requirements.
X-ALT-DESC;FMTTYPE=text/html:Join us on Friday\, July 20th&nbsp\;for the FDIC Money Smart Series with&nbsp\;Woodforest&nbsp\;National Bank at the Knox County Chamber of Commerce<br />\n&nbsp\;\n<p style="margin: 0px\; padding: 0px 0px 10px\; font-family: &quot\;Helvetica Neue&quot\;\, Helvetica\, Arial\, sans-serif\;"><strong>Tax Planning and Reporting</strong></p>\n\n<p style="margin: 0px\; padding: 0px 0px 10px\; font-family: &quot\;Helvetica Neue&quot\;\, Helvetica\, Arial\, sans-serif\;">After completing this module\, the participants will be able to:</p>\n\n<ul style="padding-right: 0px\; padding-left: 10px\; margin: 0px 0px 0px 15px\; list-style-image: url(&quot\;/responsive/graphics/ul-symbol.png&quot\;)\; font-family: &quot\;Helvetica Neue&quot\;\, Helvetica\, Arial\, sans-serif\;">\n	<li style="margin: 0px\; padding: 0px 0px 10px\;">Predict their businesses? federal\, state and local tax liabilities.</li>\n	<li style="margin: 0px\; padding: 0px 0px 10px\;">Prepare for tax obligations and establish proper accounts.</li>\n	<li style="margin: 0px\; padding: 0px 0px 10px\;">Obtain the proper licenses for their business and meet reporting requirements.</li>\n</ul>\n
LOCATION:Knox County Chamber office\, 400 South Gay Street\, Mount Vernon
UID:e.2893.3661
SEQUENCE:3
DTSTAMP:20260422T074910Z
URL:http://knoxchamber.smartcms.site/events/details/fdic-money-smart-series-tax-planning-3661
END:VEVENT

END:VCALENDAR
