BEGIN:VCALENDAR
VERSION:2.0
PRODID:-//ChamberMaster//Event Calendar 2.0//EN
METHOD:PUBLISH
X-PUBLISHED-TTL:P3D
REFRESH-INTERVAL:P3D
CALSCALE:GREGORIAN
BEGIN:VEVENT
DTSTART:20170810T130000Z
DTEND:20170810T140000Z
X-MICROSOFT-CDO-ALLDAYEVENT:FALSE
SUMMARY:FDIC Money Smart Series - Selling and Succession
DESCRIPTION:Selling Your Business and Succession Planning\n\nAfter completing this module\, the participants will be able to:\n\n\n	Incorporate life-cycle issues into their management planning.\n	Decide the best option for them to exit their business.\n	Prepare for retirement.
X-ALT-DESC;FMTTYPE=text/html:<p style="margin: 0px\; padding: 0px 0px 10px\; font-family: &quot\;Helvetica Neue&quot\;\, Helvetica\, Arial\, sans-serif\;"><strong>Selling Your </strong><strong>Business&nbsp\;</strong><strong>and</strong><strong> Succession Planning</strong></p>\n\n<p style="margin: 0px\; padding: 0px 0px 10px\; font-family: &quot\;Helvetica Neue&quot\;\, Helvetica\, Arial\, sans-serif\;">After completing this module\, the participants will be able to:</p>\n\n<ul style="margin: 0px 0px 0px 15px\; padding-right: 0px\; padding-left: 10px\; list-style-image: url(&quot\;/responsive/graphics/ul-symbol.png&quot\;)\; font-family: &quot\;Helvetica Neue&quot\;\, Helvetica\, Arial\, sans-serif\;">\n	<li style="margin: 0px\; padding: 0px 0px 10px\;">Incorporate life-cycle issues into their management planning.</li>\n	<li style="margin: 0px\; padding: 0px 0px 10px\;">Decide the best option for them to exit their business.</li>\n	<li style="margin: 0px\; padding: 0px 0px 10px\;">Prepare for retirement.</li>\n</ul>\n
LOCATION:Knox County Chamber of Commerce Conference Room 400 South Gay Street\, Mount Vernon
UID:e.2893.1367
SEQUENCE:3
DTSTAMP:20260423T023907Z
URL:http://knoxchamber.smartcms.site/events/details/fdic-money-smart-series-selling-and-succession-1367
END:VEVENT

END:VCALENDAR
