BEGIN:VCALENDAR
VERSION:2.0
PRODID:-//ChamberMaster//Event Calendar 2.0//EN
METHOD:PUBLISH
X-PUBLISHED-TTL:P3D
REFRESH-INTERVAL:P3D
CALSCALE:GREGORIAN
BEGIN:VEVENT
DTSTART:20181116T170000Z
DTEND:20181116T180000Z
X-MICROSOFT-CDO-ALLDAYEVENT:FALSE
SUMMARY:FDIC Money Smart Series - Risk Management
DESCRIPTION:FDIC Money Smart Series\n\nfor Small Business: \n\n\n\n\n\nRisk Management\n\nPlanning for what you cannot control\n\nNovember 16\, 2018\n\n\n12:00 pm to 1:00 pm\n\n\n\nKnox County Chamber of Commerce\n\n400 South Gay Street\, Mount Vernon\n\n\n\nPresented by:\n\nTonya Boucher-Gallagher\, Woodforest National Bank\n\n \n\n\n\nAfter completing this module\, the participants will be able to:\n\n\n	Understand the external and internal factors which affect risk for a small business.\n	Recognize the common warning signs of risk for a small business.\n	Implement\, monitor\, and evaluate a risk management plan for their business.\n\n\n\n\n\nMoney Smart is a comprehensive financial education curriculum designed to help business owners\, consumers and young adults.  To learn more click here.\n\n \n\n\n\n\nThe Chamber in cooperation with Woodforest National Bank is excited to offer this FREE series in Knox County.
X-ALT-DESC;FMTTYPE=text/html:<div _mce_style="color: #000000\; font-size: 14pt\; font-family: Georgia\, &quot\;Times New Roman&quot\;\, Times\, serif\;" style="color: rgb(0\, 0\, 0)\; text-align: -webkit-center\; font-size: 14pt\; font-family: Georgia\, &quot\;Times New Roman&quot\;\, Times\, serif\;">\n<div><strong>FDIC Money Smart Series</strong></div>\n\n<div><strong>for Small Business:&nbsp\;</strong></div>\n</div>\n\n<div style="color: rgb(0\, 0\, 0)\; text-align: -webkit-center\;">\n<div style="">\n<div style="">\n<div _mce_style="font-family: Georgia\, &quot\;Times New Roman&quot\;\, Times\, serif\; color: #000000\;" style=""><span _mce_style="font-size: 18.6667px\;" style=""><font face="Georgia\, Times New Roman\, Times\, serif"><b>Risk Management<br />\nPlanning for what you cannot control</b></font></span><br />\n<span _mce_style="font-family: Georgia\, &quot\;Times New Roman&quot\;\, Times\, serif\; font-size: 9pt\;" style=""><strong style="font-family: Georgia\, &quot\;Times New Roman&quot\;\, Times\, serif\; font-size: 9pt\;">November 16\, 2018</strong></span></div>\n</div>\n\n<div _mce_style="color: #000000\; font-family: Georgia\, &quot\;Times New Roman&quot\;\, Times\, serif\; font-size: 9pt\;" style="font-family: Georgia\, &quot\;Times New Roman&quot\;\, Times\, serif\; font-size: 9pt\;">12:00 pm to 1:00 pm</div>\n</div>\n\n<div _mce_style="color: #000000\; font-size: 9pt\; font-family: Georgia\, &quot\;Times New Roman&quot\;\, Times\, serif\;" style="font-family: Georgia\, &quot\;Times New Roman&quot\;\, Times\, serif\; font-size: 9pt\;">\n<div>Knox County Chamber of Commerce</div>\n\n<div>400 South Gay Street\, Mount Vernon</div>\n</div>\n\n<div _mce_style="color: #000000\; font-size: 12pt\; font-family: Georgia\, &quot\;Times New Roman&quot\;\, Times\, serif\;" style="font-family: Georgia\, &quot\;Times New Roman&quot\;\, Times\, serif\; font-size: 12pt\;">\n<div _mce_style="font-size: 9pt\;" style="font-size: 9pt\;">Presented by:</div>\n\n<div _mce_style="font-size: 9pt\;" style="font-size: 9pt\;">Tonya Boucher-Gallagher\, Woodforest National Bank</div>\n\n<div _mce_style="font-size: 12pt\;" style="font-size: 12pt\;">&nbsp\;</div>\n\n<div _mce_style="font-size: 9pt\; font-family: Georgia\, &quot\;Times New Roman&quot\;\, Times\, serif\; text-align: left\;" align="left" style="font-size: 9pt\; text-align: left\;">\n<div _mce_style="margin-right: 0px\; margin-left: 0px\; padding: 0px 0px 10px\; color: #333333\; font-family: Georgia\, &quot\;Times New Roman&quot\;\, Times\, serif\; font-size: 13px\; background-color: #ffffff\;" style="margin-right: 0px\; margin-left: 0px\; padding: 0px 0px 10px\; color: rgb(51\, 51\, 51)\; font-size: 13px\;">\n<p style="margin: 0px\; padding: 0px 0px 10px\; font-family: &quot\;Helvetica Neue&quot\;\, Helvetica\, Arial\, sans-serif\;">After completing this module\, the participants will be able to:</p>\n\n<ul style="margin: 0px 0px 0px 15px\; padding-right: 0px\; padding-left: 10px\; list-style-image: url(&quot\;/responsive/graphics/ul-symbol.png&quot\;)\; font-family: &quot\;Helvetica Neue&quot\;\, Helvetica\, Arial\, sans-serif\;">\n	<li style="margin: 0px\; padding: 0px 0px 10px\;">Understand the external and internal factors which affect risk for a small business.</li>\n	<li style="margin: 0px\; padding: 0px 0px 10px\;">Recognize the common warning signs of risk for a small business.</li>\n	<li style="margin: 0px\; padding: 0px 0px 10px\;">Implement\, monitor\, and evaluate a risk management plan for their business.</li>\n</ul>\n</div>\n</div>\n\n<div _mce_style="font-size: 9pt\; text-align: center\;" align="center" style="font-size: 9pt\;">\n<div _mce_style="font-family: Georgia\, &quot\;Times New Roman&quot\;\, Times\, serif\; font-size: 9pt\;" style="font-size: 9pt\;"><span _mce_style="font-size: 9pt\;" style="font-size: 9pt\;">Money Smart is a comprehensive financial education curriculum designed to help business owners\, consumers and young adults.&nbsp\; To learn more&nbsp\;</span><a _mce_href="https://www.fdic.gov/consumers/consumer/moneysmart/business2.html#credit" _mce_shape="rect" _mce_style="font-weight: bold\; color: #800000\; text-decoration: underline\;" href="https://www.fdic.gov/consumers/consumer/moneysmart/business2.html#credit" linktype="1" shape="rect" style="font-weight: bold\; color: rgb(128\, 0\, 0) !important\;" target="_blank" track="on">click here.</a><br />\n&nbsp\;</div>\n</div>\n</div>\n\n<div _mce_style="color: #000000\; font-family: Georgia\, &quot\;Times New Roman&quot\;\, Times\, serif\; font-size: 9pt\;" style="font-family: Georgia\, &quot\;Times New Roman&quot\;\, Times\, serif\; font-size: 9pt\;">\n<div _mce_style="text-align: center\;" align="center"><em>The Chamber in cooperation with Woodforest National Bank is excited to offer this&nbsp\;FREE&nbsp\;series in Knox County.</em>&nbsp\;</div>\n</div>\n</div>\n
LOCATION:400 South Gay Street\, Mount Vernon
UID:e.2893.2595
SEQUENCE:3
DTSTAMP:20260421T232142Z
URL:http://knoxchamber.smartcms.site/events/details/fdic-money-smart-series-risk-management-2595
END:VEVENT

END:VCALENDAR
