BEGIN:VCALENDAR
VERSION:2.0
PRODID:-//ChamberMaster//Event Calendar 2.0//EN
METHOD:PUBLISH
X-PUBLISHED-TTL:P3D
REFRESH-INTERVAL:P3D
CALSCALE:GREGORIAN
BEGIN:VEVENT
DTSTART:20170511T130000Z
DTEND:20170511T140000Z
X-MICROSOFT-CDO-ALLDAYEVENT:FALSE
SUMMARY:FDIC Money Smart Series - Risk Management
DESCRIPTION:Risk Management - planning for what you can and cannot control\n\nAfter completing this module\, the participants will be able to:\n\n\n	Understand the external and internal factors which affect risk for a small business.\n	Recognize the common warning signs of risk for a small business.\n	Implement\, monitor\, and evaluate a risk management plan for their business.
X-ALT-DESC;FMTTYPE=text/html:<p style="margin: 0px\; padding: 0px 0px 10px\; font-family: &quot\;Helvetica Neue&quot\;\, Helvetica\, Arial\, sans-serif\;"><strong>Risk Management</strong>&nbsp\;- planning for what you can and cannot control</p>\n\n<p style="margin: 0px\; padding: 0px 0px 10px\; font-family: &quot\;Helvetica Neue&quot\;\, Helvetica\, Arial\, sans-serif\;">After completing this module\, the participants will be able to:</p>\n\n<ul style="margin: 0px 0px 0px 15px\; padding-right: 0px\; padding-left: 10px\; list-style-image: url(&quot\;/responsive/graphics/ul-symbol.png&quot\;)\; font-family: &quot\;Helvetica Neue&quot\;\, Helvetica\, Arial\, sans-serif\;">\n	<li style="margin: 0px\; padding: 0px 0px 10px\;">Understand the external and internal factors which affect risk for a small business.</li>\n	<li style="margin: 0px\; padding: 0px 0px 10px\;">Recognize the common warning signs of risk for a small business.</li>\n	<li style="margin: 0px\; padding: 0px 0px 10px\;">Implement\, monitor\, and evaluate a risk management plan for their business.</li>\n</ul>\n
LOCATION:Knox County Chamber of Commerce Conference Room 400 South Gay Street
UID:e.2893.1364
SEQUENCE:3
DTSTAMP:20260423T093701Z
URL:http://knoxchamber.smartcms.site/events/details/fdic-money-smart-series-risk-management-1364
END:VEVENT

END:VCALENDAR
