BEGIN:VCALENDAR
VERSION:2.0
PRODID:-//ChamberMaster//Event Calendar 2.0//EN
METHOD:PUBLISH
X-PUBLISHED-TTL:P3D
REFRESH-INTERVAL:P3D
CALSCALE:GREGORIAN
BEGIN:VEVENT
DTSTART:20180119T170000Z
DTEND:20180119T180000Z
X-MICROSOFT-CDO-ALLDAYEVENT:FALSE
SUMMARY:FDIC Money Smart Series for Small Business: Banking Services - Designed for small businesses
DESCRIPTION:FDIC Money Smart Series\n\nfor Small Business: \n\n\n\n\n\nBanking Services -\n\nDesigned for small businesses\n\n January 19\, 2018\n\n\n12:00pm to 1:00pm\n\n\n\nKnox County Chamber of Commerce\n\n400 South Gay Street\, Mount Vernon\n\n\n\nPresented by:\n\nTonya Boucher-Gallagher\, Woodforest National Bank\n\n \n\n \n\nTime Management\n\nAfter completing this module\, the participants will be able to:\n\n \n\n\n\n\n	Recognize the most common banking services for small businesses\, including merchant services\, payroll processing\, business credit and others.\n	Understand how other small business owners decide which banking services to use.\n	Evaluate the applicability of each of banking service to their business needs.\n\n\n\nMoney Smart is a comprehensive financial education curriculum designed to help business owners\, consumers and young adults.  To learn more click here.
X-ALT-DESC;FMTTYPE=text/html:<div _mce_style="color: #000000\; font-size: 14pt\; font-family: Georgia\, &quot\;Times New Roman&quot\;\, Times\, serif\;" style="color: rgb(0\, 0\, 0)\; text-align: -webkit-center\; font-size: 14pt\; font-family: Georgia\, &quot\;Times New Roman&quot\;\, Times\, serif\;">\n<div><strong>FDIC Money Smart Series</strong></div>\n\n<div><strong>for Small Business:&nbsp\;</strong></div>\n</div>\n\n<div style="color: rgb(0\, 0\, 0)\; font-family: &quot\;Times New Roman&quot\;\; font-size: medium\; text-align: -webkit-center\;">\n<div>\n<div>\n<div><span _mce_style="font-size: 18.6667px\; font-family: Georgia\, &quot\;Times New Roman&quot\;\, Times\, serif\;" style="font-size: 18.6667px\; font-family: Georgia\, &quot\;Times New Roman&quot\;\, Times\, serif\;"><b>Banking Services -</b></span></div>\n\n<div _mce_style="color: #000000\; font-size: 10pt\;" style="font-size: 10pt\;"><span _mce_style="font-family: Georgia\, &quot\;Times New Roman&quot\;\, Times\, serif\;" style="font-family: Georgia\, &quot\;Times New Roman&quot\;\, Times\, serif\;">Designed for small businesses</span></div>\n\n<div _mce_style="color: #000000\;"><span _mce_style="font-size: 18.6667px\;" style="font-size: 18.6667px\;">&nbsp\;</span><span _mce_style="font-family: Georgia\, &quot\;Times New Roman&quot\;\, Times\, serif\; font-size: 9pt\;" style="font-family: Georgia\, &quot\;Times New Roman&quot\;\, Times\, serif\; font-size: 9pt\;"><strong>January 19\, 2018</strong></span></div>\n</div>\n\n<div _mce_style="color: #000000\; font-family: Georgia\, &quot\;Times New Roman&quot\;\, Times\, serif\; font-size: 9pt\;" style="font-family: Georgia\, &quot\;Times New Roman&quot\;\, Times\, serif\; font-size: 9pt\;">12:00pm to 1:00pm</div>\n</div>\n\n<div _mce_style="color: #000000\; font-size: 9pt\; font-family: Georgia\, &quot\;Times New Roman&quot\;\, Times\, serif\;" style="font-size: 9pt\; font-family: Georgia\, &quot\;Times New Roman&quot\;\, Times\, serif\;">\n<div>Knox County Chamber of Commerce</div>\n\n<div>400 South Gay Street\, Mount Vernon</div>\n</div>\n\n<div _mce_style="color: #000000\; font-size: 12pt\; font-family: Georgia\, &quot\;Times New Roman&quot\;\, Times\, serif\;" style="font-size: 12pt\; font-family: Georgia\, &quot\;Times New Roman&quot\;\, Times\, serif\;">\n<div _mce_style="font-size: 9pt\;" style="font-size: 9pt\;">Presented by:</div>\n\n<div _mce_style="font-size: 9pt\;" style="font-size: 9pt\;">Tonya Boucher-Gallagher\, Woodforest National Bank</div>\n\n<div _mce_style="font-size: 9pt\;" style="font-size: 9pt\;">&nbsp\;</div>\n\n<div _mce_style="font-size: 9pt\;" style="font-size: 9pt\;">&nbsp\;</div>\n\n<div _mce_style="font-size: 9pt\; font-family: Georgia\, &quot\;Times New Roman&quot\;\, Times\, serif\;" style="font-size: 9pt\;"><strong _mce_style="color: #333333\; font-size: 13px\;" style="color: rgb(51\, 51\, 51)\; font-size: 13px\;">Time Management</strong></div>\n\n<div _mce_style="font-size: 9pt\; font-family: Georgia\, &quot\;Times New Roman&quot\;\, Times\, serif\; text-align: center\;" align="center" style="font-size: 9pt\;"><span _mce_style="color: #333333\; font-size: 13px\;" style="color: rgb(51\, 51\, 51)\; font-size: 13px\;">After completing this module\, the participants will be able to:</span></div>\n\n<div _mce_style="font-size: 9pt\; font-family: Georgia\, &quot\;Times New Roman&quot\;\, Times\, serif\; text-align: center\;" align="center" style="font-size: 9pt\;">&nbsp\;</div>\n\n<div _mce_style="font-size: 9pt\; text-align: center\;" align="center" style="font-size: 9pt\;">\n<div _mce_style="font-family: Georgia\, &quot\;Times New Roman&quot\;\, Times\, serif\; font-size: 9pt\;" style="font-size: 9pt\;">\n<ul _mce_style="padding: 0px 0px 0px 10px\; color: #333333\; font-size: 13px\; margin: 0px 0px 0px 15px\; list-style-image: url(/responsive/graphics/ul-symbol.png)\; font-family: &quot\;Helvetica Neue&quot\;\, Helvetica\, Arial\, sans-serif\;" style="padding-right: 0px\; padding-left: 10px\; color: rgb(51\, 51\, 51)\; font-size: 13px\; margin: 0px 0px 0px 15px\; list-style-image: url(&quot\;/responsive/graphics/ul-symbol.png&quot\;)\; font-family: &quot\;Helvetica Neue&quot\;\, Helvetica\, Arial\, sans-serif\;">\n	<li style="margin-top: 0px\; margin-right: 0px\; margin-bottom: 0px\; padding-top: 0px\; padding-right: 0px\; padding-bottom: 10px\; text-align: left\; font-family: Georgia\, &quot\;Times New Roman&quot\;\, Times\, serif\;">Recognize the most common banking services for small businesses\, including merchant services\, payroll processing\, business credit and others.</li>\n	<li style="margin-top: 0px\; margin-right: 0px\; margin-bottom: 0px\; padding-top: 0px\; padding-right: 0px\; padding-bottom: 10px\; font-family: Georgia\, &quot\;Times New Roman&quot\;\, Times\, serif\;">Understand how other small business owners decide which banking services to use.</li>\n	<li style="margin-top: 0px\; margin-right: 0px\; margin-bottom: 0px\; padding-top: 0px\; padding-right: 0px\; padding-bottom: 10px\; font-family: Georgia\, &quot\;Times New Roman&quot\;\, Times\, serif\;">Evaluate the applicability of each of banking service to their business needs.</li>\n</ul>\n</div>\n\n<div>Money Smart is a comprehensive financial education curriculum designed to help business owners\, consumers and young adults.&nbsp\; To learn more&nbsp\;<a _mce_href="https://www.fdic.gov/consumers/consumer/moneysmart/business2.html#credit" _mce_shape="rect" _mce_style="font-weight: bold\; color: #800000 !important\; text-decoration: underline !important\;" href="https://www.fdic.gov/consumers/consumer/moneysmart/business2.html#credit" linktype="1" shape="rect" style="font-weight: bold\; color: rgb(128\, 0\, 0) !important\;" target="_blank" track="on">click here.</a></div>\n</div>\n</div>\n</div>\n
LOCATION:
UID:e.2893.2539
SEQUENCE:3
DTSTAMP:20260422T161521Z
URL:http://knoxchamber.smartcms.site/events/details/fdic-money-smart-series-for-small-business-banking-services-designed-for-small-businesses-2539
END:VEVENT

END:VCALENDAR
