BEGIN:VCALENDAR
VERSION:2.0
PRODID:-//ChamberMaster//Event Calendar 2.0//EN
METHOD:PUBLISH
X-PUBLISHED-TTL:P3D
REFRESH-INTERVAL:P3D
CALSCALE:GREGORIAN
BEGIN:VEVENT
DTSTART:20180615T160000Z
DTEND:20180615T170000Z
X-MICROSOFT-CDO-ALLDAYEVENT:FALSE
SUMMARY:FDIC Money Smart Series -Financial Management
DESCRIPTION:Join us on Friday\,June 15\, 2018 for the FDIC Money Smart Series with Woodforest National Bank.\n\n \nFinancial Management - understanding this critical practice\n\nAfter completing this module\, the participants will be able to:\n\n\n	Understand the essentials of financial management.\n	Apply financial management practices\, rules\, and tools most relevant for small businesses.\n	Prepare for common business financing needs: start-up finance\, working capital\, and fixed asset loans.
X-ALT-DESC;FMTTYPE=text/html:<div data-block="true" data-editor="asvnd" data-offset-key="5noqq-0-0" style="font-family: Helvetica\, Arial\, sans-serif\; color: rgb(29\, 33\, 41)\; font-size: 12px\; white-space: pre-wrap\;">\n<div class="_1mf _1mj" data-offset-key="5noqq-0-0" style="position: relative\; direction: ltr\; font-family: inherit\;">Join us on Friday\,June 15\, 2018 for the FDIC Money Smart Series with&nbsp\;Woodforest&nbsp\;National Bank.<br />\n&nbsp\;\n<p style="margin: 0px\; padding: 0px 0px 10px\; font-family: &quot\;Helvetica Neue&quot\;\, Helvetica\, Arial\, sans-serif\;"><strong>Financial Management</strong>&nbsp\;- understanding this critical practice</p>\n\n<p style="margin: 0px\; padding: 0px 0px 10px\; font-family: &quot\;Helvetica Neue&quot\;\, Helvetica\, Arial\, sans-serif\;">After completing this module\, the participants will be able to:</p>\n\n<ul style="padding-right: 0px\; padding-left: 10px\; margin: 0px 0px 0px 15px\; list-style-image: url(&quot\;/responsive/graphics/ul-symbol.png&quot\;)\; font-family: &quot\;Helvetica Neue&quot\;\, Helvetica\, Arial\, sans-serif\;">\n	<li style="margin: 0px\; padding: 0px 0px 10px\;">Understand the essentials of financial management.</li>\n	<li style="margin: 0px\; padding: 0px 0px 10px\;">Apply financial management practices\, rules\, and tools most relevant for small businesses.</li>\n	<li style="margin: 0px\; padding: 0px 0px 10px\;">Prepare for common business financing needs: start-up finance\, working capital\, and fixed asset loans.</li>\n</ul>\n</div>\n</div>\n
LOCATION:400 South Gay Street Mount Vernon
UID:e.2893.3660
SEQUENCE:3
DTSTAMP:20260422T074911Z
URL:http://knoxchamber.smartcms.site/events/details/fdic-money-smart-series-financial-management-3660
END:VEVENT

END:VCALENDAR
