BEGIN:VCALENDAR
VERSION:2.0
PRODID:-//ChamberMaster//Event Calendar 2.0//EN
METHOD:PUBLISH
X-PUBLISHED-TTL:P3D
REFRESH-INTERVAL:P3D
CALSCALE:GREGORIAN
BEGIN:VEVENT
DTSTART:20170209T140000Z
DTEND:20170209T150000Z
X-MICROSOFT-CDO-ALLDAYEVENT:FALSE
SUMMARY:FDIC Money Smart Series - Financial Management
DESCRIPTION:Financial Management:\n\nUnderstanding this critical practice\n\n \n\nAfter completing this module\, the participants will be able to:\n\n\n	Understand the essentials of financial management.\n	Apply financial management practices\, rules\, and tools most relevant for small businesses.\n	Prepare for common business financing needs: start-up finance\, working capital\, and fixed asset loans.\n	And more!
X-ALT-DESC;FMTTYPE=text/html:<div style="color: rgb(0\, 0\, 0)\; font-family: &quot\;Times New Roman&quot\;\; font-size: medium\;">\n<div>&#8203\;\n<div style="color: rgb(0\, 0\, 0)\; font-family: Georgia\, &quot\;Times New Roman&quot\;\, Times\, serif\; font-size: 16px\;"><strong>Financial Management:</strong></div>\n\n<div style="color: rgb(0\, 0\, 0)\; font-family: Georgia\, &quot\;Times New Roman&quot\;\, Times\, serif\; font-size: 16px\;"><strong>Understanding this critical practice</strong></div>\n\n<div style="color: rgb(0\, 0\, 0)\; font-family: Georgia\, &quot\;Times New Roman&quot\;\, Times\, serif\; font-size: 16px\;">&nbsp\;</div>\n\n<div style="color: rgb(0\, 0\, 0)\; font-family: Georgia\, &quot\;Times New Roman&quot\;\, Times\, serif\; font-size: 11pt\;">After completing this module\, the participants will be able to:</div>\n\n<ul style="color: rgb(0\, 0\, 0)\; font-family: Georgia\, &quot\;Times New Roman&quot\;\, Times\, serif\; font-size: 16px\;">\n	<li style="font-size: 11pt\;">Understand the essentials of financial management.</li>\n	<li style="font-size: 11pt\;">Apply financial management practices\, rules\, and tools most relevant for small businesses.</li>\n	<li style="font-size: 11pt\;">Prepare for common business financing needs: start-up finance\, working capital\, and fixed asset loans.</li>\n	<li>And more!&nbsp\;</li>\n</ul>\n</div>\n</div>\n
LOCATION:February 9\, 2017 9:00am to 10:00am Knox County Chamber of Commerce 400 South Gay Street\, Mount Vernon Presented by: Tonya Boucher-Gallagher\, Woodforest National Bank
UID:e.2893.1251
SEQUENCE:3
DTSTAMP:20260423T124502Z
URL:http://knoxchamber.smartcms.site/events/details/fdic-money-smart-series-financial-management-1251
END:VEVENT

END:VCALENDAR
