BEGIN:VCALENDAR
VERSION:2.0
PRODID:-//ChamberMaster//Event Calendar 2.0//EN
METHOD:PUBLISH
X-PUBLISHED-TTL:P3D
REFRESH-INTERVAL:P3D
CALSCALE:GREGORIAN
BEGIN:VEVENT
DTSTART:20170915T160000Z
DTEND:20170915T170000Z
X-MICROSOFT-CDO-ALLDAYEVENT:FALSE
SUMMARY:FDIC Money Smart Series - Credit Reporting
DESCRIPTION:Join us on Friday\, September 15th at the Chamber office for the FDIC Money Smart Series - Credit Reporting.\n\n\n\nAfter completing this module\, the participants will be able to:\n\n\n\nUnderstand how credit reports are used in the underwriting of business loans.\n\n\n\nApply common business practices and tools to help in proper credit reporting.\n\n\n\nDevelop strategies to build or improve their business' credit.\n\n\n\nProtect themselves from credit-related scams and know what to do if their business becomes a victim
X-ALT-DESC;FMTTYPE=text/html:<div data-block="true" data-editor="asvnd" data-offset-key="5noqq-0-0" style="font-family: Helvetica\, Arial\, sans-serif\; color: rgb(29\, 33\, 41)\; font-size: 12px\; white-space: pre-wrap\;">\n<div class="_1mf _1mj" data-offset-key="5noqq-0-0" style="position: relative\; direction: ltr\; font-family: inherit\;"><span data-offset-key="5noqq-0-0" style="font-family: inherit\;">Join us on Friday\, September 15th at the Chamber office for the FDIC Money Smart Series - Credit Reporting.</span></div>\n</div>\n\n<div data-block="true" data-editor="asvnd" data-offset-key="578sn-0-0" style="font-family: Helvetica\, Arial\, sans-serif\; color: rgb(29\, 33\, 41)\; font-size: 12px\; white-space: pre-wrap\;">\n<div class="_1mf _1mj" data-offset-key="578sn-0-0" style="position: relative\; direction: ltr\; font-family: inherit\;"><span data-offset-key="3to1u-0-0" style="font-family: inherit\;">After completing this module\, the participants will be able to:</span></div>\n</div>\n\n<div data-block="true" data-editor="asvnd" data-offset-key="efaud-0-0" style="font-family: Helvetica\, Arial\, sans-serif\; color: rgb(29\, 33\, 41)\; font-size: 12px\; white-space: pre-wrap\;">\n<div class="_1mf _1mj" data-offset-key="efaud-0-0" style="position: relative\; direction: ltr\; font-family: inherit\;"><span data-offset-key="b0vno-0-0" style="font-family: inherit\;">Understand how credit reports are used in the underwriting of business loans.</span></div>\n</div>\n\n<div data-block="true" data-editor="asvnd" data-offset-key="7rj1q-0-0" style="font-family: Helvetica\, Arial\, sans-serif\; color: rgb(29\, 33\, 41)\; font-size: 12px\; white-space: pre-wrap\;">\n<div class="_1mf _1mj" data-offset-key="7rj1q-0-0" style="position: relative\; direction: ltr\; font-family: inherit\;"><span data-offset-key="fo635-0-0" style="font-family: inherit\;">Apply common business practices and tools to help in proper credit reporting.</span></div>\n</div>\n\n<div data-block="true" data-editor="asvnd" data-offset-key="9l71q-0-0" style="font-family: Helvetica\, Arial\, sans-serif\; color: rgb(29\, 33\, 41)\; font-size: 12px\; white-space: pre-wrap\;">\n<div class="_1mf _1mj" data-offset-key="9l71q-0-0" style="position: relative\; direction: ltr\; font-family: inherit\;"><span data-offset-key="a21tr-0-0" style="font-family: inherit\;">Develop strategies to build or improve their business&rsquo\; credit.</span></div>\n</div>\n\n<div data-block="true" data-editor="asvnd" data-offset-key="cpcbt-0-0" style="font-family: Helvetica\, Arial\, sans-serif\; color: rgb(29\, 33\, 41)\; font-size: 12px\; white-space: pre-wrap\;">\n<div class="_1mf _1mj" data-offset-key="cpcbt-0-0" style="position: relative\; direction: ltr\; font-family: inherit\;"><span data-offset-key="cbqf7-0-0" style="font-family: inherit\;">Protect themselves from credit-related scams and know what to do if their business becomes a victim</span></div>\n</div>\n
LOCATION:400 South Gay Street\, Mount Vernon
UID:e.2893.1497
SEQUENCE:3
DTSTAMP:20260422T225845Z
URL:http://knoxchamber.smartcms.site/events/details/fdic-money-smart-series-credit-reporting-1497
END:VEVENT

END:VCALENDAR
