BEGIN:VCALENDAR
VERSION:2.0
PRODID:-//ChamberMaster//Event Calendar 2.0//EN
METHOD:PUBLISH
X-PUBLISHED-TTL:P3D
REFRESH-INTERVAL:P3D
CALSCALE:GREGORIAN
BEGIN:VEVENT
DTSTART:20161005T160000Z
DTEND:20161005T170000Z
X-MICROSOFT-CDO-ALLDAYEVENT:FALSE
SUMMARY:FastBreak
DESCRIPTION:The flexibility of VoIP can eliminate the challenges of your daily communications by sending your calls where they need to be.  It allows you to manage your business while AlphaLink manages your calls.\nOn October 5 AlphaLink is hosting a Fast Break so you can discover the advantages of VoIP for your business.  \nIt's Fast – because it only takes one hour.\nIt's a Break – because it's a break in your day\, and we will feed you lunch!
X-ALT-DESC;FMTTYPE=text/html:The flexibility of VoIP can eliminate the challenges of your daily communications by sending your calls where they need to be.  It allows you to manage your business while AlphaLink manages your calls.\nOn October 5 AlphaLink is hosting a Fast Break so you can discover the advantages of VoIP for your business.  \nIt's Fast – because it only takes one hour.\nIt's a Break – because it's a break in your day\, and we will feed you lunch!\n
LOCATION:1496 West Main Street\, Newark\, OH 43055 1496 West Main Street\, Newark\, Ohio 43055 2 blocks west of Licking Memorial Hospital
UID:e.2893.910
SEQUENCE:3
DTSTAMP:20260423T192955Z
URL:http://knoxchamber.smartcms.site/events/details/fastbreak-10-05-2016-910
END:VEVENT

END:VCALENDAR
