BEGIN:VCALENDAR
VERSION:2.0
PRODID:-//ChamberMaster//Event Calendar 2.0//EN
METHOD:PUBLISH
X-PUBLISHED-TTL:P3D
REFRESH-INTERVAL:P3D
CALSCALE:GREGORIAN
BEGIN:VEVENT
DTSTART:20170211T153000Z
DTEND:20170211T183000Z
X-MICROSOFT-CDO-ALLDAYEVENT:FALSE
SUMMARY:Farm Issues Forum
DESCRIPTION:This forum is sponsored by Knox County Farm Bureau and is free for Farm Bureau members\, $10 for non-members\, or free if you join at the event. Lunch will be catered by Panera Bread. Please RSVP by Feb. 3rd to: knox@ofbf.org 1-800-964-8184 AGENDA: 10:30AM - Welcome 11:00AM - CAUV Update 12:00PM - Lunch 12:30pm Concurrent Sessions (Choose one) Oil & Gas Leasing Basics of First Aid 1:30PM - Adjourn
X-ALT-DESC;FMTTYPE=text/html:This forum is sponsored by Knox County Farm Bureau and is free for Farm Bureau members\, $10 for non-members\, or free if you join at the event. Lunch will be catered by Panera Bread. Please RSVP by Feb. 3rd to: knox@ofbf.org 1-800-964-8184 AGENDA: 10:30AM - Welcome 11:00AM - CAUV Update 12:00PM - Lunch 12:30pm Concurrent Sessions (Choose one) Oil &amp\; Gas Leasing Basics of First Aid 1:30PM - Adjourn
LOCATION:Brandon Baptist Church 13513 Sycamore Road Mount Vernon\, Ohio 43050
UID:e.2893.1248
SEQUENCE:3
DTSTAMP:20260423T124007Z
URL:http://knoxchamber.smartcms.site/events/details/farm-issues-forum-1248
END:VEVENT

END:VCALENDAR
