BEGIN:VCALENDAR
VERSION:2.0
PRODID:-//ChamberMaster//Event Calendar 2.0//EN
METHOD:PUBLISH
X-PUBLISHED-TTL:P3D
REFRESH-INTERVAL:P3D
CALSCALE:GREGORIAN
BEGIN:VEVENT
DTSTART:20170727T173000Z
DTEND:20170727T180000Z
X-MICROSOFT-CDO-ALLDAYEVENT:FALSE
SUMMARY:Family Program: Insect Mouthpart Mayhem
DESCRIPTION:Family Program:  Insect Mouthpart Mayhem - July 27\, 1:30 pm\n\nMeet at the BFEC Resource Center.  Eek!  Does it bite?!  We share our planet with over 1 million different types of insects.  In spite of this huge variety\, insects have only four common ways of chowing down (on us and on their food).  During this program\, we will spend some time catching insects and examining their mouthparts.  Join us to discover the world of insects!  No registration necessary.
X-ALT-DESC;FMTTYPE=text/html:<strong><span style="background-image:initial\;background-position:initial\;background-size:initial\;background-repeat:initial\;background-attachment:initial\;background-origin:initial\;background-clip:initial\;"><span style="font-family:georgia\,serif\;"><span style="font-size:12pt\;">Family&nbsp\;Program:&nbsp\; Insect Mouthpart Mayhem - July 27\, 1:30 pm</span></span></span></strong><br />\n<u><span style="background-image:initial\;background-position:initial\;background-size:initial\;background-repeat:initial\;background-attachment:initial\;background-origin:initial\;background-clip:initial\;"><span style="font-family:georgia\,serif\;"><span style="font-size:10pt\;">Meet at the BFEC Resource Center</span></span></span></u><span style="background-image:initial\;background-position:initial\;background-size:initial\;background-repeat:initial\;background-attachment:initial\;background-origin:initial\;background-clip:initial\;"><span style="font-family:georgia\,serif\;"><span style="font-size:10pt\;">.&nbsp\; Eek!&nbsp\; Does it bite?!&nbsp\; We share our planet with over 1 million different types of insects.&nbsp\; In spite of this huge variety\, insects have only four common ways of chowing down (on us and on their food).&nbsp\; During this program\, we will spend some time catching insects and examining their mouthparts.&nbsp\; Join us to discover the world of insects!&nbsp\; </span></span></span><span style="background-image:initial\;background-position:initial\;background-size:initial\;background-repeat:initial\;background-attachment:initial\;background-origin:initial\;background-clip:initial\;"><span style="font-family:georgia\,serif\;">No registration necessary.</span></span>
LOCATION:
UID:e.2893.1407
SEQUENCE:3
DTSTAMP:20260423T063022Z
URL:http://knoxchamber.smartcms.site/events/details/family-program-insect-mouthpart-mayhem-1407
END:VEVENT

END:VCALENDAR
