BEGIN:VCALENDAR
VERSION:2.0
PRODID:-//ChamberMaster//Event Calendar 2.0//EN
METHOD:PUBLISH
X-PUBLISHED-TTL:P3D
REFRESH-INTERVAL:P3D
CALSCALE:GREGORIAN
BEGIN:VEVENT
DTSTART:20190713T170000Z
DTEND:20190713T210000Z
X-MICROSOFT-CDO-ALLDAYEVENT:FALSE
SUMMARY:Family Nature Quest: Yuck!
DESCRIPTION:Meet in the Picnic Pavilion. From spittlebugs to pond scum it's all things slimy\, ugly\, and foul! We'll dissect owl pellets to learn about digestion from the opposite end (barf!) and explore the funkier side of nature around our prairie and ponds. Come discover how "gross" parts of nature can be good. If inclement weather\, program will be held in the Resource Center.
X-ALT-DESC;FMTTYPE=text/html:Meet in the Picnic Pavilion. From spittlebugs to pond scum it&rsquo\;s all things slimy\, ugly\, and foul! We&rsquo\;ll dissect owl pellets to learn about digestion from the opposite end (barf!) and explore the funkier side of nature around our prairie and ponds. Come discover how &ldquo\;gross&rdquo\; parts of nature can be good. If inclement weather\, program will be held in the Resource Center.
LOCATION:Brown Family Environmental Center
UID:e.2893.4343
SEQUENCE:3
DTSTAMP:20260421T085633Z
URL:http://knoxchamber.smartcms.site/events/details/family-nature-quest-yuck-4343
END:VEVENT

END:VCALENDAR
