BEGIN:VCALENDAR
VERSION:2.0
PRODID:-//ChamberMaster//Event Calendar 2.0//EN
METHOD:PUBLISH
X-PUBLISHED-TTL:P3D
REFRESH-INTERVAL:P3D
CALSCALE:GREGORIAN
BEGIN:VEVENT
DTSTART:20190511T143000Z
DTEND:20190511T153000Z
X-MICROSOFT-CDO-ALLDAYEVENT:FALSE
SUMMARY:Family Nature Quest: Wonderful Wildflowers
DESCRIPTION:Meet in the Picnic Pavilion. Let's take a hike and search for beautiful spring wildflowers. Learn about the life cycle and preferred habitats of a few of our favorite wildflowers. We'll make beautiful cards   decorated with wildflowers   as we prepare to celebrate Mother's Day! If inclement weather\, program will be held in the Resource Center.
X-ALT-DESC;FMTTYPE=text/html:Meet in the Picnic Pavilion. Let&rsquo\;s take a hike and search for beautiful spring wildflowers. Learn about the life cycle and preferred habitats of a few of our favorite wildflowers. We&rsquo\;ll make beautiful cards &ndash\; decorated with wildflowers &ndash\; as we prepare to celebrate Mother&rsquo\;s Day! If inclement weather\, program will be held in the Resource Center.
LOCATION:Brown Family Environmental Center
UID:e.2893.4271
SEQUENCE:3
DTSTAMP:20260421T132940Z
URL:http://knoxchamber.smartcms.site/events/details/family-nature-quest-wonderful-wildflowers-4271
END:VEVENT

END:VCALENDAR
