BEGIN:VCALENDAR
VERSION:2.0
PRODID:-//ChamberMaster//Event Calendar 2.0//EN
METHOD:PUBLISH
X-PUBLISHED-TTL:P3D
REFRESH-INTERVAL:P3D
CALSCALE:GREGORIAN
BEGIN:VEVENT
DTSTART:20190209T153000Z
DTEND:20190209T163000Z
X-MICROSOFT-CDO-ALLDAYEVENT:FALSE
SUMMARY:Family Nature Quest: Winter Tracks
DESCRIPTION:Meet in the Resource Center. Learn all about the critters that "tolerate" winter\, and the tracks they leave behind as they search for food and water. Make some of your very own tracks to take home! If the weather is decent\, we'll head outside to spot some of these tracks with our very own eyes.
X-ALT-DESC;FMTTYPE=text/html:Meet in the Resource Center. Learn all about the critters that &ldquo\;tolerate&rdquo\; winter\, and the tracks they leave behind as they search for food and water. Make some of your very own tracks to take home! If the weather is decent\, we&rsquo\;ll head outside to spot some of these tracks with our very own eyes.
LOCATION:Brown Family Environmental Center 9781 Laymon Road. Gambier\, Ohio 43022
UID:e.2893.3856
SEQUENCE:3
DTSTAMP:20260421T182749Z
URL:http://knoxchamber.smartcms.site/events/details/family-nature-quest-winter-tracks-3856
END:VEVENT

END:VCALENDAR
