BEGIN:VCALENDAR
VERSION:2.0
PRODID:-//ChamberMaster//Event Calendar 2.0//EN
METHOD:PUBLISH
X-PUBLISHED-TTL:P3D
REFRESH-INTERVAL:P3D
CALSCALE:GREGORIAN
BEGIN:VEVENT
DTSTART:20231007T143000Z
DTEND:20231007T153000Z
X-MICROSOFT-CDO-ALLDAYEVENT:FALSE
SUMMARY:Family Nature Quest: Wild Weaving
DESCRIPTION:In our prairies\, forests\, and riverbanks lie the materials we'll use to practice the ancient craft of weaving. Learn about the grasses\, rushes\, and vines that are best for weaving\, and how to use them to make crafts. Meet at the Picnic Shelter.
X-ALT-DESC;FMTTYPE=text/html:In our prairies\, forests\, and riverbanks lie the materials we&rsquo\;ll use to practice the ancient craft of weaving. Learn about the grasses\, rushes\, and vines that are best for weaving\, and how to use them to make crafts. Meet at the Picnic Shelter.
LOCATION:Brown Family Environmental Center
UID:e.2893.8580
SEQUENCE:3
DTSTAMP:20260421T085619Z
URL:http://knoxchamber.smartcms.site/events/details/family-nature-quest-wild-weaving-8580
END:VEVENT

END:VCALENDAR
