BEGIN:VCALENDAR
VERSION:2.0
PRODID:-//ChamberMaster//Event Calendar 2.0//EN
METHOD:PUBLISH
X-PUBLISHED-TTL:P3D
REFRESH-INTERVAL:P3D
CALSCALE:GREGORIAN
BEGIN:VEVENT
DTSTART:20190907T143000Z
DTEND:20190907T153000Z
X-MICROSOFT-CDO-ALLDAYEVENT:FALSE
SUMMARY:Family Nature Quest: Vulture Awareness Day
DESCRIPTION:You heard that right. It's International Vulture Awareness Day. Vultures are one of the world's most underappreciated and overlooked creatures. Learn about what they eat and their vital role as nature's cleanup crew. Meet in the Picnic Pavilion. In the event of inclement weather\, program will be held in the Resource Center.
X-ALT-DESC;FMTTYPE=text/html:You heard that right. It&rsquo\;s International Vulture Awareness Day. Vultures are one of the world&rsquo\;s most underappreciated and overlooked creatures. Learn about what they eat and their vital role as nature&rsquo\;s cleanup crew. Meet in the Picnic Pavilion. In the event of inclement weather\, program will be held in the Resource Center.
LOCATION:Brown Family Environmental Center
UID:e.2893.4352
SEQUENCE:3
DTSTAMP:20260421T053716Z
URL:http://knoxchamber.smartcms.site/events/details/family-nature-quest-vulture-awareness-day-4352
END:VEVENT

END:VCALENDAR
