BEGIN:VCALENDAR
VERSION:2.0
PRODID:-//ChamberMaster//Event Calendar 2.0//EN
METHOD:PUBLISH
X-PUBLISHED-TTL:P3D
REFRESH-INTERVAL:P3D
CALSCALE:GREGORIAN
BEGIN:VEVENT
DTSTART:20201031T160000Z
DTEND:20201031T160000Z
X-MICROSOFT-CDO-ALLDAYEVENT:FALSE
SUMMARY:Family Nature Quest: Trick-or-Tree(t)
DESCRIPTION:Meet at the BFEC Picnic Pavilion. Don your costume early and come out for some spooky fun. We'll take an eerie Halloween hike through the trees\, and then warm up near the campfire. Limited space available. Each session will have no more than 9 guests. Programs occur 10-11 am OR 11:30-12:30 pm. Pre-registration required. Call NOW to reserve your spot   740-427-5052. If inclement weather\, program will be canceled.
X-ALT-DESC;FMTTYPE=text/html:Meet at the BFEC Picnic Pavilion. Don your costume early and come out for some spooky fun. We&rsquo\;ll take an eerie Halloween hike through the trees\, and then warm up near the campfire. Limited space available. Each session will have no more than 9 guests. Programs occur 10-11 am OR 11:30-12:30 pm. Pre-registration required. Call NOW to reserve your spot &ndash\; 740-427-5052. If inclement weather\, program will be canceled.
LOCATION:Brown Family Environmental Center
UID:e.2893.4814
SEQUENCE:3
DTSTAMP:20260420T093500Z
URL:http://knoxchamber.smartcms.site/events/details/family-nature-quest-trick-or-tree-t-4814
END:VEVENT

END:VCALENDAR
