BEGIN:VCALENDAR
VERSION:2.0
PRODID:-//ChamberMaster//Event Calendar 2.0//EN
METHOD:PUBLISH
X-PUBLISHED-TTL:P3D
REFRESH-INTERVAL:P3D
CALSCALE:GREGORIAN
BEGIN:VEVENT
DTSTART:20181027T143000Z
DTEND:20181027T153000Z
X-MICROSOFT-CDO-ALLDAYEVENT:FALSE
SUMMARY:Family Nature Quest: Trick-Or-Treat
DESCRIPTION:Meet at the BFEC Picnic Pavilion. It's almost Halloween! Bring your spooky spirit to venture on a tree scavenger hunt and explore the BFEC's many trails to collect prizes from our native trees. We'll have a campfire\, hot chocolate\, and s'mores for you to warm up by after the scavenger hunt. In the event of inclement weather\, we will have a costume party in the Resource Center!
X-ALT-DESC;FMTTYPE=text/html:Meet at the BFEC Picnic Pavilion. It&rsquo\;s almost Halloween! Bring your spooky spirit to venture on a tree scavenger hunt and explore the BFEC&rsquo\;s many trails to collect prizes from our native trees. We&rsquo\;ll have a campfire\, hot chocolate\, and s&rsquo\;mores for you to warm up by after the scavenger hunt. In the event of inclement weather\, we will have a costume party in the Resource Center!
LOCATION:Brown Family Environmental Center
UID:e.2893.3764
SEQUENCE:3
DTSTAMP:20260422T011159Z
URL:http://knoxchamber.smartcms.site/events/details/family-nature-quest-trick-or-treat-3764
END:VEVENT

END:VCALENDAR
