BEGIN:VCALENDAR
VERSION:2.0
PRODID:-//ChamberMaster//Event Calendar 2.0//EN
METHOD:PUBLISH
X-PUBLISHED-TTL:P3D
REFRESH-INTERVAL:P3D
CALSCALE:GREGORIAN
BEGIN:VEVENT
DTSTART:20191026T143000Z
DTEND:20191026T153000Z
X-MICROSOFT-CDO-ALLDAYEVENT:FALSE
SUMMARY:Family Nature Quest: Scaredy Plants
DESCRIPTION:Meet at the Picnic Pavillion. Things are getting spooky at the BFEC. Venture into the woods for a halloween hike where we may encounter creepy critters and plants along the way. Costumes and treat collection bags are encouraged! Be ready for a few family-friendly frights. If inclement weather\, program will be held in the Resource Center.
X-ALT-DESC;FMTTYPE=text/html:Meet at the Picnic Pavillion. Things are getting spooky at the BFEC. Venture into the woods for a halloween hike where we may encounter creepy critters and plants along the way. Costumes and treat collection bags are encouraged! Be ready for a few family-friendly frights. If inclement weather\, program will be held in the Resource Center.
LOCATION:
UID:e.2893.4477
SEQUENCE:3
DTSTAMP:20260421T040056Z
URL:http://knoxchamber.smartcms.site/events/details/family-nature-quest-scaredy-plants-4477
END:VEVENT

END:VCALENDAR
