BEGIN:VCALENDAR
VERSION:2.0
PRODID:-//ChamberMaster//Event Calendar 2.0//EN
METHOD:PUBLISH
X-PUBLISHED-TTL:P3D
REFRESH-INTERVAL:P3D
CALSCALE:GREGORIAN
BEGIN:VEVENT
DTSTART:20190914T143000Z
DTEND:20190914T153000Z
X-MICROSOFT-CDO-ALLDAYEVENT:FALSE
SUMMARY:Family Nature Quest: Prairie Party
DESCRIPTION:Covering about 5% of Ohio's land\, prairies are vital resources for our native birds\, insects\, and other wildlife. Learn about the history of prairies in Ohio\, then catch\, observe\, and release insects to explore our prairie and discover its current role in Ohio. Meet in the Picnic Pavilion. In the event of inclement weather\, program will be held in the Resource Center.
X-ALT-DESC;FMTTYPE=text/html:Covering about 5% of Ohio&rsquo\;s land\, prairies are vital resources for our native birds\, insects\, and other wildlife. Learn about the history of prairies in Ohio\, then catch\, observe\, and release insects to explore our prairie and discover its current role in Ohio. Meet in the Picnic Pavilion. In the event of inclement weather\, program will be held in the Resource Center.
LOCATION:
UID:e.2893.4353
SEQUENCE:3
DTSTAMP:20260421T053715Z
URL:http://knoxchamber.smartcms.site/events/details/family-nature-quest-prairie-party-4353
END:VEVENT

END:VCALENDAR
