BEGIN:VCALENDAR
VERSION:2.0
PRODID:-//ChamberMaster//Event Calendar 2.0//EN
METHOD:PUBLISH
X-PUBLISHED-TTL:P3D
REFRESH-INTERVAL:P3D
CALSCALE:GREGORIAN
BEGIN:VEVENT
DTSTART:20201024T160000Z
DTEND:20201024T160000Z
X-MICROSOFT-CDO-ALLDAYEVENT:FALSE
SUMMARY:Family Nature Quest: Nature's Palette
DESCRIPTION:Meet at the BFEC Picnic Pavilion. Learn how a wide range of natural resources found during the fall can be made into usable inks. Let the kids test a wide range of natural objects such as leaves\, flowers\, and berries that they want to try to use for color. They will also have the opportunity to try using prepared inks using the same recipe to make autumn-inspired art. Limited space available. Each session will have no more than 9 guests. Programs occur 10-11 am OR 11:30-12:30 pm. Pre-registration required. Call NOW to reserve your spot   740-427-5052. If inclement weather\, program will be canceled.
X-ALT-DESC;FMTTYPE=text/html:Meet at the BFEC Picnic Pavilion. Learn how a wide range of natural resources found during the fall can be made into usable inks. Let the kids test a wide range of natural objects such as leaves\, flowers\, and berries that they want to try to use for color. They will also have the opportunity to try using prepared inks using the same recipe to make autumn-inspired art. Limited space available. Each session will have no more than 9 guests. Programs occur 10-11 am OR 11:30-12:30 pm. Pre-registration required. Call NOW to reserve your spot &ndash\; 740-427-5052. If inclement weather\, program will be canceled.
LOCATION:Brown Family Environmental Center
UID:e.2893.4813
SEQUENCE:3
DTSTAMP:20260420T105751Z
URL:http://knoxchamber.smartcms.site/events/details/family-nature-quest-nature-s-palette-4813
END:VEVENT

END:VCALENDAR
