BEGIN:VCALENDAR
VERSION:2.0
PRODID:-//ChamberMaster//Event Calendar 2.0//EN
METHOD:PUBLISH
X-PUBLISHED-TTL:P3D
REFRESH-INTERVAL:P3D
CALSCALE:GREGORIAN
BEGIN:VEVENT
DTSTART:20181006T143000Z
DTEND:20181006T153000Z
X-MICROSOFT-CDO-ALLDAYEVENT:FALSE
SUMMARY:Family Nature Quest: Hibernate\, Migrate\, Tolerate
DESCRIPTION:Meet at the BFEC Picnic Pavilion. Participate in a shelter scavenger hunt to explore the BFEC forests and prairie and learn how animals prepare for the long winter ahead. Then create your own mini-shelter based on what you discovered! In the event of inclement weather\, program will be held in the Resource Center.
X-ALT-DESC;FMTTYPE=text/html:Meet at the BFEC Picnic Pavilion. Participate in a shelter scavenger hunt to explore the BFEC forests and prairie and learn how animals prepare for the long winter ahead. Then create your own mini-shelter based on what you discovered! In the event of inclement weather\, program will be held in the Resource Center.
LOCATION:Brown Family Environmental Center
UID:e.2893.3762
SEQUENCE:3
DTSTAMP:20260422T011201Z
URL:http://knoxchamber.smartcms.site/events/details/family-nature-quest-hibernate-migrate-tolerate-3762
END:VEVENT

END:VCALENDAR
