BEGIN:VCALENDAR
VERSION:2.0
PRODID:-//ChamberMaster//Event Calendar 2.0//EN
METHOD:PUBLISH
X-PUBLISHED-TTL:P3D
REFRESH-INTERVAL:P3D
CALSCALE:GREGORIAN
BEGIN:VEVENT
DTSTART:20190727T143000Z
DTEND:20190727T153000Z
X-MICROSOFT-CDO-ALLDAYEVENT:FALSE
SUMMARY:Family Nature Quest: H2Whoa
DESCRIPTION:Meet in the Picnic Pavilion. Dive into the warm waters around the BFEC. Below the surface\, tadpoles\, frogs\, and insects are all around. In the air\, red-winged blackbirds and dragonflies are taking advantage of the surrounding plant life. Come learn about what's happening in our ponds and grab a net to reveal watery worlds! If inclement weather\, program will be held in the Resource Center.
X-ALT-DESC;FMTTYPE=text/html:Meet in the Picnic Pavilion. Dive into the warm waters around the BFEC. Below the surface\, tadpoles\, frogs\, and insects are all around. In the air\, red-winged blackbirds and dragonflies are taking advantage of the surrounding plant life. Come learn about what&rsquo\;s happening in our ponds and grab a net to reveal watery worlds! If inclement weather\, program will be held in the Resource Center.
LOCATION:Brown Family Environmental Center
UID:e.2893.4345
SEQUENCE:3
DTSTAMP:20260421T085509Z
URL:http://knoxchamber.smartcms.site/events/details/family-nature-quest-h2whoa-4345
END:VEVENT

END:VCALENDAR
