BEGIN:VCALENDAR
VERSION:2.0
PRODID:-//ChamberMaster//Event Calendar 2.0//EN
METHOD:PUBLISH
X-PUBLISHED-TTL:P3D
REFRESH-INTERVAL:P3D
CALSCALE:GREGORIAN
BEGIN:VEVENT
DTSTART:20190928T143000Z
DTEND:20190928T153000Z
X-MICROSOFT-CDO-ALLDAYEVENT:FALSE
SUMMARY:Family Nature Quest: Falling Leaves and Tree ID
DESCRIPTION:It's officially autumn! We'll identify trees by their leaves before they change color and paint the Ohio landscape shades of red\, orange\, and yellow. With the leaves we collect\, make a variety leaf rubbings and leaf paintings. It's your own autumn masterpiece! Meet in the Picnic Pavilion. In the event of inclement weather\, program will be held in the Resource Center.
X-ALT-DESC;FMTTYPE=text/html:It&rsquo\;s officially autumn! We&rsquo\;ll identify trees by their leaves before they change color and paint the Ohio landscape shades of red\, orange\, and yellow. With the leaves we collect\, make a variety leaf rubbings and leaf paintings. It&rsquo\;s your own autumn masterpiece! Meet in the Picnic Pavilion. In the event of inclement weather\, program will be held in the Resource Center.
LOCATION:Brown Family Environmental Cente
UID:e.2893.4354
SEQUENCE:3
DTSTAMP:20260421T053605Z
URL:http://knoxchamber.smartcms.site/events/details/family-nature-quest-falling-leaves-and-tree-id-4354
END:VEVENT

END:VCALENDAR
