BEGIN:VCALENDAR
VERSION:2.0
PRODID:-//ChamberMaster//Event Calendar 2.0//EN
METHOD:PUBLISH
X-PUBLISHED-TTL:P3D
REFRESH-INTERVAL:P3D
CALSCALE:GREGORIAN
BEGIN:VEVENT
DTSTART:20190720T143000Z
DTEND:20190720T153000Z
X-MICROSOFT-CDO-ALLDAYEVENT:FALSE
SUMMARY:Family Nature Quest: Enchanted Forest
DESCRIPTION:Meet in the Picnic Pavilion. Let's tour the BFEC's magical places! Using our imaginations and the sense of wonder that nature provides\, we'll venture into the garden in search of mythical creatures such as fairies\, pixies\, and elves. Along the way we'll learn about the real animals and natural phenomena that are the basis for many of these fabled beings. You'll build a fairy home of your own! If inclement weather\, program will be held in the Resource Center.
X-ALT-DESC;FMTTYPE=text/html:Meet in the Picnic Pavilion. Let&rsquo\;s tour the BFEC&rsquo\;s magical places! Using our imaginations and the sense of wonder that nature provides\, we&rsquo\;ll venture into the garden in search of mythical creatures such as fairies\, pixies\, and elves. Along the way we&rsquo\;ll learn about the real animals and natural phenomena that are the basis for many of these fabled beings. You&rsquo\;ll build a fairy home of your own! If inclement weather\, program will be held in the Resource Center.
LOCATION:Brown Family Environmental Center
UID:e.2893.4344
SEQUENCE:3
DTSTAMP:20260421T101944Z
URL:http://knoxchamber.smartcms.site/events/details/family-nature-quest-enchanted-forest-4344
END:VEVENT

END:VCALENDAR
