BEGIN:VCALENDAR
VERSION:2.0
PRODID:-//ChamberMaster//Event Calendar 2.0//EN
METHOD:PUBLISH
X-PUBLISHED-TTL:P3D
REFRESH-INTERVAL:P3D
CALSCALE:GREGORIAN
BEGIN:VEVENT
DTSTART:20180929T143000Z
DTEND:20180929T153000Z
X-MICROSOFT-CDO-ALLDAYEVENT:FALSE
SUMMARY:Family Nature Quest: Down by the Prairie
DESCRIPTION:Meet at the BFEC Picnic Pavilion. Bring the whole family this Saturday to learn about Ohio's prairies. Covering about 5% of Ohio's land\, prairies are vital resources for our native birds\, insects\, and other wildlife. Learn about the history of prairies in Ohio and then catch\, observe\, and release insects to explore our prairie and discover its role in Ohio today. In the event of inclement weather\, program will be held in the Resource Center.
X-ALT-DESC;FMTTYPE=text/html:Meet at the BFEC Picnic Pavilion. Bring the whole family this Saturday to learn about Ohio&rsquo\;s prairies. Covering about 5% of Ohio&rsquo\;s land\, prairies are vital resources for our native birds\, insects\, and other wildlife. Learn about the history of prairies in Ohio and then catch\, observe\, and release insects to explore our prairie and discover its role in Ohio today. In the event of inclement weather\, program will be held in the Resource Center.
LOCATION:Brown Family Environmental Center
UID:e.2893.3761
SEQUENCE:3
DTSTAMP:20260422T024215Z
URL:http://knoxchamber.smartcms.site/events/details/family-nature-quest-down-by-the-prairie-3761
END:VEVENT

END:VCALENDAR
