BEGIN:VCALENDAR
VERSION:2.0
PRODID:-//ChamberMaster//Event Calendar 2.0//EN
METHOD:PUBLISH
X-PUBLISHED-TTL:P3D
REFRESH-INTERVAL:P3D
CALSCALE:GREGORIAN
BEGIN:VEVENT
DTSTART:20231021T143000Z
DTEND:20231022T033000Z
X-MICROSOFT-CDO-ALLDAYEVENT:FALSE
SUMMARY:Family Nature Quest: Cordage Construction
DESCRIPTION:Some of the sturdiest cordage can be made from a pair of hands and some plants.\n\n\n\nIn this program\, researcher Olivia Westley-Sherman will talk about the historical uses of cordage throughout our human past. Then\, we'll try it out ourselves\, making cordage and friendship bracelets from plants found around the BFEC.\n\n\n\nMeet at the Picnic Shelter.
X-ALT-DESC;FMTTYPE=text/html:Some of the sturdiest cordage can be made from a pair of hands and some plants.<br />\n<br />\nIn this program\, researcher Olivia Westley-Sherman will talk about the historical uses of cordage throughout our human past. Then\, we&rsquo\;ll try it out ourselves\, making cordage and friendship bracelets from plants found around the BFEC.<br />\n<br />\nMeet at the Picnic Shelter.
LOCATION:Brown Family Environmental Center
UID:e.2893.8582
SEQUENCE:3
DTSTAMP:20260421T085444Z
URL:http://knoxchamber.smartcms.site/events/details/family-nature-quest-cordage-construction-8582
END:VEVENT

END:VCALENDAR
