BEGIN:VCALENDAR
VERSION:2.0
PRODID:-//ChamberMaster//Event Calendar 2.0//EN
METHOD:PUBLISH
X-PUBLISHED-TTL:P3D
REFRESH-INTERVAL:P3D
CALSCALE:GREGORIAN
BEGIN:VEVENT
DTSTART:20190803T143000Z
DTEND:20190803T153000Z
X-MICROSOFT-CDO-ALLDAYEVENT:FALSE
SUMMARY:Family Nature Quest: Child vs. Wild
DESCRIPTION:Meet in the Picnic Pavilion. Do you have what it takes to survive outdoors? Hike up to our pine plantation to learn about natural items that meet our nutritional needs and build a lean-to. We'll wrap up with s'mores and fire building tips. If inclement weather\, program will be held in the Resource Center.
X-ALT-DESC;FMTTYPE=text/html:Meet in the Picnic Pavilion. Do you have what it takes to survive outdoors? Hike up to our pine plantation to learn about natural items that meet our nutritional needs and build a lean-to. We&rsquo\;ll wrap up with s&rsquo\;mores and fire building tips. If inclement weather\, program will be held in the Resource Center.
LOCATION:Brown Family Environmental Center
UID:e.2893.4346
SEQUENCE:3
DTSTAMP:20260421T071119Z
URL:http://knoxchamber.smartcms.site/events/details/family-nature-quest-child-vs-wild-4346
END:VEVENT

END:VCALENDAR
